BEGIN:VCALENDAR
VERSION:2.0
PRODID:-//Tanzkollektiv - ECPv6.15.18//NONSGML v1.0//EN
CALSCALE:GREGORIAN
METHOD:PUBLISH
X-WR-CALNAME:Tanzkollektiv
X-ORIGINAL-URL:https://tanzkollektiv.at
X-WR-CALDESC:Veranstaltungen für Tanzkollektiv
REFRESH-INTERVAL;VALUE=DURATION:PT1H
X-Robots-Tag:noindex
X-PUBLISHED-TTL:PT1H
BEGIN:VTIMEZONE
TZID:Europe/Vienna
BEGIN:DAYLIGHT
TZOFFSETFROM:+0100
TZOFFSETTO:+0200
TZNAME:CEST
DTSTART:20250330T010000
END:DAYLIGHT
BEGIN:STANDARD
TZOFFSETFROM:+0200
TZOFFSETTO:+0100
TZNAME:CET
DTSTART:20251026T010000
END:STANDARD
BEGIN:DAYLIGHT
TZOFFSETFROM:+0100
TZOFFSETTO:+0200
TZNAME:CEST
DTSTART:20260329T010000
END:DAYLIGHT
BEGIN:STANDARD
TZOFFSETFROM:+0200
TZOFFSETTO:+0100
TZNAME:CET
DTSTART:20261025T010000
END:STANDARD
BEGIN:DAYLIGHT
TZOFFSETFROM:+0100
TZOFFSETTO:+0200
TZNAME:CEST
DTSTART:20270328T010000
END:DAYLIGHT
BEGIN:STANDARD
TZOFFSETFROM:+0200
TZOFFSETTO:+0100
TZNAME:CET
DTSTART:20271031T010000
END:STANDARD
END:VTIMEZONE
BEGIN:VEVENT
DTSTART;TZID=Europe/Vienna:20260523T183000
DTEND;TZID=Europe/Vienna:20260523T203000
DTSTAMP:20260424T220938
CREATED:20260424T104934Z
LAST-MODIFIED:20260424T104934Z
UID:10000208-1779561000-1779568200@tanzkollektiv.at
SUMMARY:Saturdance mit Gobayashi
DESCRIPTION:Ingo Yashi aka DJ GOBAYASHI ist seit über 25 Jahren eine prägende Kraft der österreichischen elektronischen Musikszene. Ingos momentaner Fokus liegt auf Ethno Tribal Worldbeat Downtempo & Medicine Music\, Ecstatic Dance Journeys\, Ritual Dance und Trance-Tanz-Soundscapes. Seine Sets sind bewusst geführte Reisen – erdend\, ekstatisch\, verbindend. Aus den Anfängen der Psy-Trance- und Goa-Festival-Kultur kommend\, verbindet er tiefe Erfahrung mit feinem Gespür für Raum\, Energie und Gemeinschaft. Im Zentrum steht sein Herzensprojekt AVALOKA – www.avaloka.org – eine Fusion aus Musik\, Ritual\, vielfältiger künstlerischer Performances und Bewusstseinsarbeit. Ingo Yashi arbeitet seit über zwei Jahrzehnten mit Künstler:innen\, Veranstalter:innen und Kollektiven im europäischen Netzwerk. Neue Formate wie TRIBAL OASIS und ORIENTAL TRIBAL NIGHT erweitern sein Wirken im rituellen Tanzkontext. Sein Anliegen ist es\, geschützte Räume für Ekstase\, Präsenz und Herzberührung zu öffnen\, in denen Musik als Medizin & Lebensausdruck dient
URL:https://tanzkollektiv.at/event/saturdance-mit-gobayashi/
LOCATION:GRg2 Zirkusgasse\, Weintraubengasse 29\, Wien\, 1020
CATEGORIES:Ecstatic Dance in Wien
ATTACH;FMTTYPE=image/jpeg:https://tanzkollektiv.at/wp-content/uploads/2026/04/ED-UNI-SOLO-gobayashi.jpg
END:VEVENT
END:VCALENDAR